BEGIN:VCALENDAR
VERSION:2.0
PRODID:-//Concord University - ECPv6.15.20//NONSGML v1.0//EN
CALSCALE:GREGORIAN
METHOD:PUBLISH
X-ORIGINAL-URL:https://www.concord.edu
X-WR-CALDESC:Events for Concord University
REFRESH-INTERVAL;VALUE=DURATION:PT1H
X-Robots-Tag:noindex
X-PUBLISHED-TTL:PT1H
BEGIN:VTIMEZONE
TZID:America/New_York
BEGIN:DAYLIGHT
TZOFFSETFROM:-0500
TZOFFSETTO:-0400
TZNAME:EDT
DTSTART:20250309T070000
END:DAYLIGHT
BEGIN:STANDARD
TZOFFSETFROM:-0400
TZOFFSETTO:-0500
TZNAME:EST
DTSTART:20251102T060000
END:STANDARD
BEGIN:DAYLIGHT
TZOFFSETFROM:-0500
TZOFFSETTO:-0400
TZNAME:EDT
DTSTART:20260308T070000
END:DAYLIGHT
BEGIN:STANDARD
TZOFFSETFROM:-0400
TZOFFSETTO:-0500
TZNAME:EST
DTSTART:20261101T060000
END:STANDARD
BEGIN:DAYLIGHT
TZOFFSETFROM:-0500
TZOFFSETTO:-0400
TZNAME:EDT
DTSTART:20270314T070000
END:DAYLIGHT
BEGIN:STANDARD
TZOFFSETFROM:-0400
TZOFFSETTO:-0500
TZNAME:EST
DTSTART:20271107T060000
END:STANDARD
END:VTIMEZONE
BEGIN:VEVENT
DTSTART;TZID=America/New_York:20260422T160000
DTEND;TZID=America/New_York:20260422T180000
DTSTAMP:20260422T175329
CREATED:20250818T175610Z
LAST-MODIFIED:20250827T144638Z
UID:10000143-1776873600-1776880800@www.concord.edu
SUMMARY:Student Government Association
DESCRIPTION:Join the Student Government Association (SGA) in the State Room on Wednesday\, April 22\, 2026 at 4PM and let your voice be heard!
URL:https://www.concord.edu/event/student-government-association-23
LOCATION:State Room\, 1000 Vermillion Street\, Athens\, WV\, 24712\, United States
CATEGORIES:Student Life
ATTACH;FMTTYPE=image/jpeg:https://www.concord.edu/wp-content/uploads/SGA-Logo.jpg
ORGANIZER;CN="Abby Stovall":MAILTO:stovalla14@mycu.concord.edu
END:VEVENT
BEGIN:VEVENT
DTSTART;TZID=America/New_York:20260422T180000
DTEND;TZID=America/New_York:20260422T210000
DTSTAMP:20260422T175329
CREATED:20260410T143234Z
LAST-MODIFIED:20260410T143234Z
UID:10000362-1776880800-1776891600@www.concord.edu
SUMMARY:Greek Week - Quiz Bowl\, Corn Hole and Relays
DESCRIPTION:Greek Week events
URL:https://www.concord.edu/event/greek-week-quiz-bowl-corn-hole-and-relays
LOCATION:Ballroom\, 1000 Vermillion Street\, Athens\, WV\, 24712\, United States
CATEGORIES:Student Life
ORGANIZER;CN="Lauren Phillips":MAILTO:lphillips@concord.edu
END:VEVENT
BEGIN:VEVENT
DTSTART;TZID=America/New_York:20260423T100000
DTEND;TZID=America/New_York:20260423T140000
DTSTAMP:20260422T175329
CREATED:20260415T130055Z
LAST-MODIFIED:20260422T172150Z
UID:10000365-1776938400-1776952800@www.concord.edu
SUMMARY:Greek Week - Mercer County Animal Shelter Donation Tabling
DESCRIPTION:Greek organizations will be paring with our Veterinary club on campus to collect donation items for the Mercer County Animal Shelter.
URL:https://www.concord.edu/event/greek-week-mercer-county-animal-shelter-donation-tabling
LOCATION:Ground Floor Lobby\, 1000 Vermillion Street\, Athens\, WV\, 24712\, United States
CATEGORIES:Student Life
ORGANIZER;CN="Lauren Phillips":MAILTO:lphillips@concord.edu
END:VEVENT
BEGIN:VEVENT
DTSTART;TZID=America/New_York:20260423T183000
DTEND;TZID=America/New_York:20260423T203000
DTSTAMP:20260422T175329
CREATED:20251118T142047Z
LAST-MODIFIED:20251118T142048Z
UID:10000238-1776969000-1776976200@www.concord.edu
SUMMARY:Spring Musical: 'Firebringer'
DESCRIPTION:The Spring Musical: ‘Firebringer’ will be performed on April 23\, 24\, & 25 at 6:30pm and at 1:30pm on April 26!
URL:https://www.concord.edu/event/spring-musical-firebringer-4
LOCATION:HC Paul Theatre\, 1000 Vermillion Street\, Athens\, WV\, 24712\, United States
CATEGORIES:Student Life
ORGANIZER;CN="Jason Lockart":MAILTO:jlockart@concord.edu
END:VEVENT
BEGIN:VEVENT
DTSTART;TZID=America/New_York:20260424T180000
DTEND;TZID=America/New_York:20260424T200000
DTSTAMP:20260422T175329
CREATED:20260410T143337Z
LAST-MODIFIED:20260415T125838Z
UID:10000363-1777053600-1777060800@www.concord.edu
SUMMARY:S'mores in the Valley with Greek Life
DESCRIPTION:Join Greek Life in the Valley from 6-8 PM for S’mores in the Valley!
URL:https://www.concord.edu/event/greek-sing
LOCATION:Valley\, 1000 Vermillion Street\, Athens\, WV\, 24712\, United States
CATEGORIES:Student Life
ORGANIZER;CN="Lauren Phillips":MAILTO:lphillips@concord.edu
END:VEVENT
BEGIN:VEVENT
DTSTART;TZID=America/New_York:20260424T183000
DTEND;TZID=America/New_York:20260424T203000
DTSTAMP:20260422T175330
CREATED:20251114T175244Z
LAST-MODIFIED:20251118T142206Z
UID:10000244-1777055400-1777062600@www.concord.edu
SUMMARY:Spring Musical: 'Firebringer'
DESCRIPTION:The Spring Musical: ‘Firebringer’ will be performed on April 23\, 24\, & 25 at 6:30pm and at 1:30pm on April 26!
URL:https://www.concord.edu/event/spring-musical-firebringer
LOCATION:HC Paul Theatre\, 1000 Vermillion Street\, Athens\, WV\, 24712\, United States
CATEGORIES:Student Life
ORGANIZER;CN="Jason Lockart":MAILTO:jlockart@concord.edu
END:VEVENT
BEGIN:VEVENT
DTSTART;TZID=America/New_York:20260425T183000
DTEND;TZID=America/New_York:20260425T203000
DTSTAMP:20260422T175330
CREATED:20251118T141923Z
LAST-MODIFIED:20251118T141923Z
UID:10000240-1777141800-1777149000@www.concord.edu
SUMMARY:Spring Musical: 'Firebringer'
DESCRIPTION:The Spring Musical: ‘Firebringer’ will be performed on April 23\, 24\, & 25 at 6:30pm and at 1:30pm on April 26!
URL:https://www.concord.edu/event/spring-musical-firebringer-2
LOCATION:HC Paul Theatre\, 1000 Vermillion Street\, Athens\, WV\, 24712\, United States
CATEGORIES:Student Life
ORGANIZER;CN="Jason Lockart":MAILTO:jlockart@concord.edu
END:VEVENT
BEGIN:VEVENT
DTSTART;TZID=America/New_York:20260426T133000
DTEND;TZID=America/New_York:20260426T153000
DTSTAMP:20260422T175330
CREATED:20251118T141958Z
LAST-MODIFIED:20251118T141958Z
UID:10000241-1777210200-1777217400@www.concord.edu
SUMMARY:Spring Musical: 'Firebringer'
DESCRIPTION:The Spring Musical: ‘Firebringer’ will be performed on April 23\, 24\, & 25 at 6:30pm and at 1:30pm on April 26!
URL:https://www.concord.edu/event/spring-musical-firebringer-3
LOCATION:HC Paul Theatre\, 1000 Vermillion Street\, Athens\, WV\, 24712\, United States
CATEGORIES:Student Life
ORGANIZER;CN="Jason Lockart":MAILTO:jlockart@concord.edu
END:VEVENT
BEGIN:VEVENT
DTSTART;TZID=America/New_York:20260428T110000
DTEND;TZID=America/New_York:20260428T130000
DTSTAMP:20260422T175330
CREATED:20260421T134005Z
LAST-MODIFIED:20260421T134714Z
UID:10000366-1777374000-1777381200@www.concord.edu
SUMMARY:Finals Week Event
DESCRIPTION:Join the Student Success Center for a fun\, informative\, finals week activity. You’ll be SORRY if you miss! In the event of rain\, join us in the Student Center Ground Floor.
URL:https://www.concord.edu/event/finals-week-event
LOCATION:between the Student Center & Library
CATEGORIES:Student Life
ORGANIZER;CN="Student Success Center":MAILTO:studentsuccess@concord.edu
END:VEVENT
BEGIN:VEVENT
DTSTART;TZID=America/New_York:20260429T100000
DTEND;TZID=America/New_York:20260429T140000
DTSTAMP:20260422T175330
CREATED:20260306T191829Z
LAST-MODIFIED:20260306T191829Z
UID:10000337-1777456800-1777471200@www.concord.edu
SUMMARY:Denim Bookmarks
DESCRIPTION:For Denim Day\, Student Activities will be making denim bookmarks in the Welcome Center!
URL:https://www.concord.edu/event/denim-bookmarks
LOCATION:Welcome Center\, 1000 Vermillion Street\, Athens\, WV\, 24712\, United States
CATEGORIES:Student Life
ORGANIZER;CN="Carolyn Worley":MAILTO:cworley@concord.edu
END:VEVENT
BEGIN:VEVENT
DTSTART;TZID=America/New_York:20260429T160000
DTEND;TZID=America/New_York:20260429T180000
DTSTAMP:20260422T175330
CREATED:20250813T193244Z
LAST-MODIFIED:20250827T144704Z
UID:10000144-1777478400-1777485600@www.concord.edu
SUMMARY:Student Government Association
DESCRIPTION:Join the Student Government Association (SGA) in the State Room on Wednesdays at 4PM and let your voice be heard!
URL:https://www.concord.edu/event/student-government-association-2
LOCATION:State Room\, 1000 Vermillion Street\, Athens\, WV\, 24712\, United States
CATEGORIES:Student Life
ATTACH;FMTTYPE=image/jpeg:https://www.concord.edu/wp-content/uploads/SGA-Logo.jpg
ORGANIZER;CN="Abby Stovall":MAILTO:stovalla14@mycu.concord.edu
END:VEVENT
BEGIN:VEVENT
DTSTART;TZID=America/New_York:20260430T100000
DTEND;TZID=America/New_York:20260430T140000
DTSTAMP:20260422T175330
CREATED:20260105T185532Z
LAST-MODIFIED:20260105T185532Z
UID:10000264-1777543200-1777557600@www.concord.edu
SUMMARY:Clearly You Crystals
DESCRIPTION:Clearly You Crystals gives you the opportunity to have an image engraved in a crystal! Stop by the Ground Lobby from 10-2 for yours!
URL:https://www.concord.edu/event/clearly-you-crystals
LOCATION:Ground Floor Lobby\, 1000 Vermillion Street\, Athens\, WV\, 24712\, United States
CATEGORIES:Student Life
ORGANIZER;CN="Carolyn Worley":MAILTO:cworley@concord.edu
END:VEVENT
BEGIN:VEVENT
DTSTART;TZID=America/New_York:20260505T203000
DTEND;TZID=America/New_York:20260505T223000
DTSTAMP:20260422T175330
CREATED:20260406T163442Z
LAST-MODIFIED:20260406T163442Z
UID:10000359-1778013000-1778020200@www.concord.edu
SUMMARY:Late Night Breakfast
DESCRIPTION:When’s the best time to eat breakfast? That’s right…Late at Night! Join us in the Cafeteria for Late Night Breakfast\, featuring John Rush Karaoke!
URL:https://www.concord.edu/event/late-night-breakfast-3
LOCATION:Libby Alvis Dining Hall\, 1000 Vermillion Street\, Athens\, WV\, 24712\, United States
CATEGORIES:Student Life
ORGANIZER;CN="Carolyn Worley":MAILTO:cworley@concord.edu
END:VEVENT
END:VCALENDAR