BEGIN:VCALENDAR
VERSION:2.0
PRODID:-//Concord University - ECPv6.15.20//NONSGML v1.0//EN
CALSCALE:GREGORIAN
METHOD:PUBLISH
X-WR-CALNAME:Concord University
X-ORIGINAL-URL:https://www.concord.edu
X-WR-CALDESC:Events for Concord University
REFRESH-INTERVAL;VALUE=DURATION:PT1H
X-Robots-Tag:noindex
X-PUBLISHED-TTL:PT1H
BEGIN:VTIMEZONE
TZID:America/New_York
BEGIN:DAYLIGHT
TZOFFSETFROM:-0500
TZOFFSETTO:-0400
TZNAME:EDT
DTSTART:20250309T070000
END:DAYLIGHT
BEGIN:STANDARD
TZOFFSETFROM:-0400
TZOFFSETTO:-0500
TZNAME:EST
DTSTART:20251102T060000
END:STANDARD
BEGIN:DAYLIGHT
TZOFFSETFROM:-0500
TZOFFSETTO:-0400
TZNAME:EDT
DTSTART:20260308T070000
END:DAYLIGHT
BEGIN:STANDARD
TZOFFSETFROM:-0400
TZOFFSETTO:-0500
TZNAME:EST
DTSTART:20261101T060000
END:STANDARD
BEGIN:DAYLIGHT
TZOFFSETFROM:-0500
TZOFFSETTO:-0400
TZNAME:EDT
DTSTART:20270314T070000
END:DAYLIGHT
BEGIN:STANDARD
TZOFFSETFROM:-0400
TZOFFSETTO:-0500
TZNAME:EST
DTSTART:20271107T060000
END:STANDARD
END:VTIMEZONE
BEGIN:VEVENT
DTSTART;TZID=America/New_York:20260409T120000
DTEND;TZID=America/New_York:20260409T160000
DTSTAMP:20260423T022831
CREATED:20260112T194725Z
LAST-MODIFIED:20260112T194725Z
UID:10000288-1775736000-1775750400@www.concord.edu
SUMMARY:8th Annual Pitch Competition
DESCRIPTION:Students will make a live pitch in front of judges for a chance to win $300 for the Grand Prize\, $200 for Second Place\, and $100 for Third Place. Students may use visual aids\, props\, or handouts.
URL:https://www.concord.edu/event/8th-annual-pitch-competition
LOCATION:Pais Fellowship Hall\, 1000 Vermillion Street\, Athens\, WV\, 24712\, United States
CATEGORIES:Academics
ORGANIZER;CN="Lucinda Gonderman":MAILTO:lgonderman@concord.edu
END:VEVENT
END:VCALENDAR