BEGIN:VCALENDAR
VERSION:2.0
PRODID:-//Concord University - ECPv6.15.20//NONSGML v1.0//EN
CALSCALE:GREGORIAN
METHOD:PUBLISH
X-ORIGINAL-URL:https://www.concord.edu
X-WR-CALDESC:Events for Concord University
REFRESH-INTERVAL;VALUE=DURATION:PT1H
X-Robots-Tag:noindex
X-PUBLISHED-TTL:PT1H
BEGIN:VTIMEZONE
TZID:America/New_York
BEGIN:DAYLIGHT
TZOFFSETFROM:-0500
TZOFFSETTO:-0400
TZNAME:EDT
DTSTART:20250309T070000
END:DAYLIGHT
BEGIN:STANDARD
TZOFFSETFROM:-0400
TZOFFSETTO:-0500
TZNAME:EST
DTSTART:20251102T060000
END:STANDARD
BEGIN:DAYLIGHT
TZOFFSETFROM:-0500
TZOFFSETTO:-0400
TZNAME:EDT
DTSTART:20260308T070000
END:DAYLIGHT
BEGIN:STANDARD
TZOFFSETFROM:-0400
TZOFFSETTO:-0500
TZNAME:EST
DTSTART:20261101T060000
END:STANDARD
BEGIN:DAYLIGHT
TZOFFSETFROM:-0500
TZOFFSETTO:-0400
TZNAME:EDT
DTSTART:20270314T070000
END:DAYLIGHT
BEGIN:STANDARD
TZOFFSETFROM:-0400
TZOFFSETTO:-0500
TZNAME:EST
DTSTART:20271107T060000
END:STANDARD
END:VTIMEZONE
BEGIN:VEVENT
DTSTART;TZID=America/New_York:20260419T130000
DTEND;TZID=America/New_York:20260419T160000
DTSTAMP:20260422T205953
CREATED:20250908T124828Z
LAST-MODIFIED:20250908T124828Z
UID:10000173-1776603600-1776614400@www.concord.edu
SUMMARY:Tri Sigma Founder's Day
DESCRIPTION:Active members and alumnae of the Tri Sigma Alpha Alpha chapter of Concord University gather together to celebrate the founding of the chapter to update alumni\, attain funding\, and maintain strong connections with one another.
URL:https://www.concord.edu/event/tri-sigma-founders-day
LOCATION:Pais Fellowship Hall\, 1000 Vermillion Street\, Athens\, WV\, 24712\, United States
CATEGORIES:Student Life
ORGANIZER;CN="Skyler Mounts":MAILTO:mountss28@mycu.concord.edu
END:VEVENT
END:VCALENDAR